BEGIN:VCALENDAR
VERSION:2.0
PRODID:-//Brainteaser - ECPv6.15.20//NONSGML v1.0//EN
CALSCALE:GREGORIAN
METHOD:PUBLISH
X-WR-CALNAME:Brainteaser
X-ORIGINAL-URL:https://brainteaser.health
X-WR-CALDESC:Events for Brainteaser
REFRESH-INTERVAL;VALUE=DURATION:PT1H
X-Robots-Tag:noindex
X-PUBLISHED-TTL:PT1H
BEGIN:VTIMEZONE
TZID:Europe/London
BEGIN:DAYLIGHT
TZOFFSETFROM:+0000
TZOFFSETTO:+0100
TZNAME:BST
DTSTART:20200329T010000
END:DAYLIGHT
BEGIN:STANDARD
TZOFFSETFROM:+0100
TZOFFSETTO:+0000
TZNAME:GMT
DTSTART:20201025T010000
END:STANDARD
BEGIN:DAYLIGHT
TZOFFSETFROM:+0000
TZOFFSETTO:+0100
TZNAME:BST
DTSTART:20210328T010000
END:DAYLIGHT
BEGIN:STANDARD
TZOFFSETFROM:+0100
TZOFFSETTO:+0000
TZNAME:GMT
DTSTART:20211031T010000
END:STANDARD
BEGIN:DAYLIGHT
TZOFFSETFROM:+0000
TZOFFSETTO:+0100
TZNAME:BST
DTSTART:20220327T010000
END:DAYLIGHT
BEGIN:STANDARD
TZOFFSETFROM:+0100
TZOFFSETTO:+0000
TZNAME:GMT
DTSTART:20221030T010000
END:STANDARD
END:VTIMEZONE
BEGIN:VEVENT
DTSTART;TZID=Europe/London:20210603T103000
DTEND;TZID=Europe/London:20210603T130000
DTSTAMP:20260423T002433
CREATED:20210429T075037Z
LAST-MODIFIED:20210429T075037Z
UID:758-1622716200-1622725200@brainteaser.health
SUMMARY:BRAINTEASER:  Open co-design workshop on next generation tools to manage ALS and MS
DESCRIPTION:Aim of the event is to gather feedback from a panel of experts\, patients and families associations and from the audience on the initial BRAINTEASER solution and to build relationships with relevant stakeholders and other projects and initiatives. Stay tuned for additional information about the workshop and the registration facilities!
URL:https://brainteaser.health/event/brainteaser-open-co-design-workshop-on-next-generation-tools-to-manage-als-and-ms/
END:VEVENT
END:VCALENDAR