BEGIN:VCALENDAR
VERSION:2.0
PRODID:-//Brainteaser - ECPv6.15.20//NONSGML v1.0//EN
CALSCALE:GREGORIAN
METHOD:PUBLISH
X-WR-CALNAME:Brainteaser
X-ORIGINAL-URL:https://brainteaser.health
X-WR-CALDESC:Events for Brainteaser
REFRESH-INTERVAL;VALUE=DURATION:PT1H
X-Robots-Tag:noindex
X-PUBLISHED-TTL:PT1H
BEGIN:VTIMEZONE
TZID:Europe/London
BEGIN:DAYLIGHT
TZOFFSETFROM:+0000
TZOFFSETTO:+0100
TZNAME:BST
DTSTART:20210328T010000
END:DAYLIGHT
BEGIN:STANDARD
TZOFFSETFROM:+0100
TZOFFSETTO:+0000
TZNAME:GMT
DTSTART:20211031T010000
END:STANDARD
BEGIN:DAYLIGHT
TZOFFSETFROM:+0000
TZOFFSETTO:+0100
TZNAME:BST
DTSTART:20220327T010000
END:DAYLIGHT
BEGIN:STANDARD
TZOFFSETFROM:+0100
TZOFFSETTO:+0000
TZNAME:GMT
DTSTART:20221030T010000
END:STANDARD
BEGIN:DAYLIGHT
TZOFFSETFROM:+0000
TZOFFSETTO:+0100
TZNAME:BST
DTSTART:20230326T010000
END:DAYLIGHT
BEGIN:STANDARD
TZOFFSETFROM:+0100
TZOFFSETTO:+0000
TZNAME:GMT
DTSTART:20231029T010000
END:STANDARD
END:VTIMEZONE
BEGIN:VEVENT
DTSTART;TZID=Europe/London:20220201T140000
DTEND;TZID=Europe/London:20220201T153000
DTSTAMP:20260422T111856
CREATED:20211216T165136Z
LAST-MODIFIED:20211216T165136Z
UID:1028-1643724000-1643729400@brainteaser.health
SUMMARY:BRAINTEASER Focus Groups: suitable exploitation routes co-design Workshop
DESCRIPTION:BRAINTEASER is a data science project that seeks to exploit the value of large clinical datasets integrated with personal and environmental data collected through low-cost sensors\, to develop AI-based clinical software and mobile apps to support patients with amyotrophic lateral sclerosis and multiple sclerosis and their clinicians. The series of four Focus Group online workshops is organised with the aim of enlarging the project’s vision on users and market needs\, obtaining additional requirements and accompanying the BRAINTEASER Consortium towards the most suitable results’ sustainability and commercialisation strategy. This first workshop is aimed at offering an overview of the BRAINTEASER project as a whole\, spotting a light on the apps and clinical tools that are under development. Advocacy patient groups representatives\, clinicians\, policy makers\, ICT professionals\, ethical and standardisation experts will animate the plenary discussion. By implementing the principles of participatory design\, the experts will be engaged in a dialogue on clinical unmet needs\, diseases course\, clinical practices\, new emerging research towards the development of more accurate and personalised treatment outcomes\, to assess and enhance the BRAINTEASER solutions and its exploitation approach. \nBy invitation only  \nAgenda \n\n\n\n14:00\nWelcome and overall project presentation \nBarbara Di Camillo – BRAINTEASER Scientific and Technical Manager\, University of Padova\n\n\n14:10\nBRAINTEASER Apps \nManuel Ottaviano – Universidad Politécnica de Madrid\, LifeSTech\n\n\n14:25\nThe project’s innovation approach and exploitation challenges \nAlessia Baretta – BRAINTEASER Innovation and Exploitation Manager\, InSilicoTrials Technologies\n\n\n14 :40\nPlenary discussion \n✔   Patient associations \n✔   Medical and scientific experts \n✔   ICT experts \n✔   Policy Makers \n✔  Ethical and standardisation experts\n\n\n15 :15\n\nClosing remarks
URL:https://brainteaser.health/event/brainteaser-focus-groups-suitable-exploitation-routes-co-design-workshop/
ATTACH;FMTTYPE=image/png:https://brainteaser.health/wp-content/uploads/2021/12/image13.png
END:VEVENT
END:VCALENDAR