BEGIN:VCALENDAR
VERSION:2.0
PRODID:-//Brainteaser - ECPv6.15.20//NONSGML v1.0//EN
CALSCALE:GREGORIAN
METHOD:PUBLISH
X-ORIGINAL-URL:https://brainteaser.health
X-WR-CALDESC:Events for Brainteaser
REFRESH-INTERVAL;VALUE=DURATION:PT1H
X-Robots-Tag:noindex
X-PUBLISHED-TTL:PT1H
BEGIN:VTIMEZONE
TZID:Europe/London
BEGIN:DAYLIGHT
TZOFFSETFROM:+0000
TZOFFSETTO:+0100
TZNAME:BST
DTSTART:20210328T010000
END:DAYLIGHT
BEGIN:STANDARD
TZOFFSETFROM:+0100
TZOFFSETTO:+0000
TZNAME:GMT
DTSTART:20211031T010000
END:STANDARD
BEGIN:DAYLIGHT
TZOFFSETFROM:+0000
TZOFFSETTO:+0100
TZNAME:BST
DTSTART:20220327T010000
END:DAYLIGHT
BEGIN:STANDARD
TZOFFSETFROM:+0100
TZOFFSETTO:+0000
TZNAME:GMT
DTSTART:20221030T010000
END:STANDARD
BEGIN:DAYLIGHT
TZOFFSETFROM:+0000
TZOFFSETTO:+0100
TZNAME:BST
DTSTART:20230326T010000
END:DAYLIGHT
BEGIN:STANDARD
TZOFFSETFROM:+0100
TZOFFSETTO:+0000
TZNAME:GMT
DTSTART:20231029T010000
END:STANDARD
END:VTIMEZONE
BEGIN:VEVENT
DTSTART;TZID=Europe/London:20220413T120000
DTEND;TZID=Europe/London:20220413T133000
DTSTAMP:20260420T082300
CREATED:20220411T074853Z
LAST-MODIFIED:20220411T074853Z
UID:1116-1649851200-1649856600@brainteaser.health
SUMMARY:BRAINTEASER presents its first open evaluation challenge at  ECIR
DESCRIPTION:Nicola Ferro\, full professor at the University of Padua\, will present the BRAINTEASER First Open Evaluation Challenge – IDPP@CLEF 2022 – at the The European conference on Information Retrieval and Information Access\, 10-14 April 2022\, Stavanger  (Norway)
URL:https://brainteaser.health/event/brainteaser-presents-its-first-open-evaluation-challenge-at-ecir/
LOCATION:Stavanger\, Norway
ATTACH;FMTTYPE=image/jpeg:https://brainteaser.health/wp-content/uploads/2022/04/Brainteaser_iDPP@CLEF_Poster-11-scaled.jpg
END:VEVENT
END:VCALENDAR